BEGIN:VCALENDAR
VERSION:2.0
PRODID:-//Meir Yedid - ECPv6.15.20//NONSGML v1.0//EN
CALSCALE:GREGORIAN
METHOD:PUBLISH
X-WR-CALNAME:Meir Yedid
X-ORIGINAL-URL:https://meiryedid.com
X-WR-CALDESC:Events for Meir Yedid
REFRESH-INTERVAL;VALUE=DURATION:PT1H
X-Robots-Tag:noindex
X-PUBLISHED-TTL:PT1H
BEGIN:VTIMEZONE
TZID:America/New_York
BEGIN:DAYLIGHT
TZOFFSETFROM:-0500
TZOFFSETTO:-0400
TZNAME:EDT
DTSTART:20210314T070000
END:DAYLIGHT
BEGIN:STANDARD
TZOFFSETFROM:-0400
TZOFFSETTO:-0500
TZNAME:EST
DTSTART:20211107T060000
END:STANDARD
BEGIN:DAYLIGHT
TZOFFSETFROM:-0500
TZOFFSETTO:-0400
TZNAME:EDT
DTSTART:20220313T070000
END:DAYLIGHT
BEGIN:STANDARD
TZOFFSETFROM:-0400
TZOFFSETTO:-0500
TZNAME:EST
DTSTART:20221106T060000
END:STANDARD
BEGIN:DAYLIGHT
TZOFFSETFROM:-0500
TZOFFSETTO:-0400
TZNAME:EDT
DTSTART:20230312T070000
END:DAYLIGHT
BEGIN:STANDARD
TZOFFSETFROM:-0400
TZOFFSETTO:-0500
TZNAME:EST
DTSTART:20231105T060000
END:STANDARD
END:VTIMEZONE
BEGIN:VEVENT
DTSTART;TZID=America/New_York:20221112T160000
DTEND;TZID=America/New_York:20221112T171500
DTSTAMP:20260420T112548
CREATED:20221029T013616Z
LAST-MODIFIED:20221029T013616Z
UID:1200-1668268800-1668273300@meiryedid.com
SUMMARY:Performing at Comix @ Mohegan Sun
DESCRIPTION:Stand-Up Comedy Magic Show With Jim Spinnato\nWith Special Guest Meir Yedid\nAt the Comix Roadhouse Comedy Club\nAt the Mohegan Sun Casino in Connecticut
URL:https://meiryedid.com/events/performing-at-comix-mohegan-sun-8/
LOCATION:Mohegan Sun Casino\, 1 Mohegan Sun Blvd\, Uncasville\, CT\, 06382\, United States
ATTACH;FMTTYPE=image/jpeg:https://meiryedid.com/wp-content/uploads/2022/10/td-2022d-comix.jpg
END:VEVENT
BEGIN:VEVENT
DTSTART;TZID=America/New_York:20221113T160000
DTEND;TZID=America/New_York:20221113T173000
DTSTAMP:20260420T112548
CREATED:20220720T194111Z
LAST-MODIFIED:20220720T194111Z
UID:1153-1668355200-1668360600@meiryedid.com
SUMMARY:Performing at Comix @ Mohegan Sun
DESCRIPTION:Stand-Up Comedy Magic Show With Jim Spinnato\nWith Special Guest Meir Yedid\nAt the Comix Roadhouse Comedy Club\nAt the Mohegan Sun Casino in Connecticut
URL:https://meiryedid.com/events/performing-at-comix-mohegan-sun-2/
LOCATION:Mohegan Sun Casino\, 1 Mohegan Sun Blvd\, Uncasville\, CT\, 06382\, United States
ATTACH;FMTTYPE=image/jpeg:https://meiryedid.com/wp-content/uploads/2022/01/td-2022-12-comix-new.jpg
END:VEVENT
END:VCALENDAR